BEGIN:VCALENDAR
VERSION:2.0
PRODID:-//National Rural Telecommunications Cooperative | NRTC - ECPv6.15.20//NONSGML v1.0//EN
CALSCALE:GREGORIAN
METHOD:PUBLISH
X-ORIGINAL-URL:https://www.nrtc.coop
X-WR-CALDESC:Events for National Rural Telecommunications Cooperative | NRTC
REFRESH-INTERVAL;VALUE=DURATION:PT1H
X-Robots-Tag:noindex
X-PUBLISHED-TTL:PT1H
BEGIN:VTIMEZONE
TZID:America/New_York
BEGIN:DAYLIGHT
TZOFFSETFROM:-0500
TZOFFSETTO:-0400
TZNAME:EDT
DTSTART:20210314T070000
END:DAYLIGHT
BEGIN:STANDARD
TZOFFSETFROM:-0400
TZOFFSETTO:-0500
TZNAME:EST
DTSTART:20211107T060000
END:STANDARD
BEGIN:DAYLIGHT
TZOFFSETFROM:-0500
TZOFFSETTO:-0400
TZNAME:EDT
DTSTART:20220313T070000
END:DAYLIGHT
BEGIN:STANDARD
TZOFFSETFROM:-0400
TZOFFSETTO:-0500
TZNAME:EST
DTSTART:20221106T060000
END:STANDARD
BEGIN:DAYLIGHT
TZOFFSETFROM:-0500
TZOFFSETTO:-0400
TZNAME:EDT
DTSTART:20230312T070000
END:DAYLIGHT
BEGIN:STANDARD
TZOFFSETFROM:-0400
TZOFFSETTO:-0500
TZNAME:EST
DTSTART:20231105T060000
END:STANDARD
END:VTIMEZONE
BEGIN:VEVENT
DTSTART;TZID=America/New_York:20221109T080000
DTEND;TZID=America/New_York:20221111T170000
DTSTAMP:20260420T084729
CREATED:20220930T143832Z
LAST-MODIFIED:20221103T162042Z
UID:10000220-1667980800-1668186000@www.nrtc.coop
SUMMARY:Pennsylvania Rural Electric Association (PREA) Annual Meeting
DESCRIPTION:NRTC CEO Tim Bryan will attend and present. NRTC’s Brad Kusant will also attend. \nNRTC is a sponsor of this event.
URL:https://www.nrtc.coop/event/pennsylvania-rural-electric-association-prea-annual-meeting/
LOCATION:Hershey\, Hershey\, PA\, United States
CATEGORIES:Conference
ATTACH;FMTTYPE=image/png:https://www.nrtc.coop/wp-content/uploads/2022/09/prea-annual-meeting.png
GEO:40.2859239;-76.6502468
END:VEVENT
BEGIN:VEVENT
DTSTART;TZID=America/New_York:20221109T080000
DTEND;TZID=America/New_York:20221111T170000
DTSTAMP:20260420T084729
CREATED:20220930T143832Z
LAST-MODIFIED:20220930T143832Z
UID:10000544-1667980800-1668186000@www.nrtc.coop
SUMMARY:Pennsylvania Rural Electric Association (PREA) Annual Meeting
DESCRIPTION:NRTC CEO Tim Bryan will attend and present. NRTC’s Brad Kusant will also attend. \nNRTC is a sponsor of this event.
URL:https://www.nrtc.coop/event/pennsylvania-rural-electric-association-prea-annual-meeting-2/
LOCATION:Hershey\, Hershey\, PA\, United States
CATEGORIES:Conference
ATTACH;FMTTYPE=image/png:https://www.nrtc.coop/wp-content/uploads/2022/09/prea-annual-meeting.png
GEO:40.2859239;-76.6502468
END:VEVENT
BEGIN:VEVENT
DTSTART;TZID=America/New_York:20221110T080000
DTEND;TZID=America/New_York:20221110T170000
DTSTAMP:20260420T084729
CREATED:20221103T171033Z
LAST-MODIFIED:20221110T170143Z
UID:10000269-1668067200-1668099600@www.nrtc.coop
SUMMARY:Beneficial League - Electrify Arizona
DESCRIPTION:NRTC is a sponsor of this event.
URL:https://www.nrtc.coop/event/beneficial-league-electrify-arizona/
CATEGORIES:Conference
ATTACH;FMTTYPE=image/jpeg:https://www.nrtc.coop/wp-content/uploads/2022/11/beneficial-electrification-logo.jpg
END:VEVENT
BEGIN:VEVENT
DTSTART;TZID=America/New_York:20221110T080000
DTEND;TZID=America/New_York:20221110T170000
DTSTAMP:20260420T084729
CREATED:20221103T171033Z
LAST-MODIFIED:20221103T171033Z
UID:10000581-1668067200-1668099600@www.nrtc.coop
SUMMARY:Beneficial League - Electrify Arizona
DESCRIPTION:NRTC is a sponsor of this event.
URL:https://www.nrtc.coop/event/beneficial-league-electrify-arizona-2/
CATEGORIES:Conference
ATTACH;FMTTYPE=image/jpeg:https://www.nrtc.coop/wp-content/uploads/2022/11/beneficial-electrification-logo.jpg
END:VEVENT
END:VCALENDAR