BEGIN:VCALENDAR
VERSION:2.0
PRODID:-//National Rural Telecommunications Cooperative | NRTC - ECPv6.15.20//NONSGML v1.0//EN
CALSCALE:GREGORIAN
METHOD:PUBLISH
X-ORIGINAL-URL:https://www.nrtc.coop
X-WR-CALDESC:Events for National Rural Telecommunications Cooperative | NRTC
REFRESH-INTERVAL;VALUE=DURATION:PT1H
X-Robots-Tag:noindex
X-PUBLISHED-TTL:PT1H
BEGIN:VTIMEZONE
TZID:America/New_York
BEGIN:DAYLIGHT
TZOFFSETFROM:-0500
TZOFFSETTO:-0400
TZNAME:EDT
DTSTART:20230312T070000
END:DAYLIGHT
BEGIN:STANDARD
TZOFFSETFROM:-0400
TZOFFSETTO:-0500
TZNAME:EST
DTSTART:20231105T060000
END:STANDARD
BEGIN:DAYLIGHT
TZOFFSETFROM:-0500
TZOFFSETTO:-0400
TZNAME:EDT
DTSTART:20240310T070000
END:DAYLIGHT
BEGIN:STANDARD
TZOFFSETFROM:-0400
TZOFFSETTO:-0500
TZNAME:EST
DTSTART:20241103T060000
END:STANDARD
BEGIN:DAYLIGHT
TZOFFSETFROM:-0500
TZOFFSETTO:-0400
TZNAME:EDT
DTSTART:20250309T070000
END:DAYLIGHT
BEGIN:STANDARD
TZOFFSETFROM:-0400
TZOFFSETTO:-0500
TZNAME:EST
DTSTART:20251102T060000
END:STANDARD
END:VTIMEZONE
BEGIN:VEVENT
DTSTART;VALUE=DATE:20240721
DTEND;VALUE=DATE:20240724
DTSTAMP:20260425T064207
CREATED:20240614T183312Z
LAST-MODIFIED:20240618T135729Z
UID:10000411-1721520000-1721779199@www.nrtc.coop
SUMMARY:Association of Louisiana Electric Cooperatives Annual Meeting\, Baton Rouge\, LA
DESCRIPTION:The Association of Louisiana Electric Cooperatives invites our members and exhibitors to attend our 2024 Annual Meeting\, July 21-23\, at the Renaissance Hotel in Baton Rouge\, Louisiana.   This is an excellent opportunity to network with fellow cooperatives and exhibitors. \nNRTC’s Regional Business Manager\, Matt Timmons\, will attend. \nNRTC is a Silver Corporate sponsor of this event.
URL:https://www.nrtc.coop/event/association-of-louisiana-electric-cooperatives-annual-meeting-baton-rouge-la-2/
CATEGORIES:Conference
ATTACH;FMTTYPE=image/png:https://www.nrtc.coop/wp-content/uploads/2023/06/Association-of-Louisiana-Electric-Cooperatives-Annual-Meeting.png
END:VEVENT
BEGIN:VEVENT
DTSTART;VALUE=DATE:20240721
DTEND;VALUE=DATE:20240724
DTSTAMP:20260425T064207
CREATED:20240614T183312Z
LAST-MODIFIED:20240614T183312Z
UID:10000754-1721520000-1721779199@www.nrtc.coop
SUMMARY:Association of Louisiana Electric Cooperatives Annual Meeting\, Baton Rouge\, LA
DESCRIPTION:The Association of Louisiana Electric Cooperatives invites our members and exhibitors to attend our 2024 Annual Meeting\, July 21-23\, at the Renaissance Hotel in Baton Rouge\, Louisiana.   This is an excellent opportunity to network with fellow cooperatives and exhibitors. \nNRTC’s Regional Business Manager\, Matt Timmons\, will attend. \nNRTC is a Silver Corporate sponsor of this event.
URL:https://www.nrtc.coop/event/association-of-louisiana-electric-cooperatives-annual-meeting-baton-rouge-la-2-2/
CATEGORIES:Conference
ATTACH;FMTTYPE=image/png:https://www.nrtc.coop/wp-content/uploads/2023/06/Association-of-Louisiana-Electric-Cooperatives-Annual-Meeting.png
END:VEVENT
BEGIN:VEVENT
DTSTART;VALUE=DATE:20240722
DTEND;VALUE=DATE:20240726
DTSTAMP:20260425T064207
CREATED:20240410T175431Z
LAST-MODIFIED:20240522T155608Z
UID:10000396-1721606400-1721951999@www.nrtc.coop
SUMMARY:Grand Canyon State Electric Cooperative Assoc. Mid-Annual Meeting\, Flagstaff\, AZ
DESCRIPTION:NRTC’s Regional Business Manager\, Chris Bradley\, will attend.
URL:https://www.nrtc.coop/event/grand-canyon-state-electric-cooperative-assoc-mid-annual-meeting-flagstaff-az/
CATEGORIES:Conference
ATTACH;FMTTYPE=image/png:https://www.nrtc.coop/wp-content/uploads/2022/12/grand-canyon-state-electric-cooperative-association.png
END:VEVENT
BEGIN:VEVENT
DTSTART;VALUE=DATE:20240722
DTEND;VALUE=DATE:20240726
DTSTAMP:20260425T064207
CREATED:20240410T175431Z
LAST-MODIFIED:20240410T175431Z
UID:10000744-1721606400-1721951999@www.nrtc.coop
SUMMARY:Grand Canyon State Electric Cooperative Assoc. Mid-Annual Meeting\, Flagstaff\, AZ
DESCRIPTION:NRTC’s Regional Business Manager\, Chris Bradley\, will attend.
URL:https://www.nrtc.coop/event/grand-canyon-state-electric-cooperative-assoc-mid-annual-meeting-flagstaff-az-2/
CATEGORIES:Conference
ATTACH;FMTTYPE=image/png:https://www.nrtc.coop/wp-content/uploads/2022/12/grand-canyon-state-electric-cooperative-association.png
END:VEVENT
END:VCALENDAR