BEGIN:VCALENDAR
VERSION:2.0
PRODID:-//National Rural Telecommunications Cooperative | NRTC - ECPv6.15.20//NONSGML v1.0//EN
CALSCALE:GREGORIAN
METHOD:PUBLISH
X-WR-CALNAME:National Rural Telecommunications Cooperative | NRTC
X-ORIGINAL-URL:https://www.nrtc.coop
X-WR-CALDESC:Events for National Rural Telecommunications Cooperative | NRTC
REFRESH-INTERVAL;VALUE=DURATION:PT1H
X-Robots-Tag:noindex
X-PUBLISHED-TTL:PT1H
BEGIN:VTIMEZONE
TZID:America/New_York
BEGIN:DAYLIGHT
TZOFFSETFROM:-0500
TZOFFSETTO:-0400
TZNAME:EDT
DTSTART:20240310T070000
END:DAYLIGHT
BEGIN:STANDARD
TZOFFSETFROM:-0400
TZOFFSETTO:-0500
TZNAME:EST
DTSTART:20241103T060000
END:STANDARD
BEGIN:DAYLIGHT
TZOFFSETFROM:-0500
TZOFFSETTO:-0400
TZNAME:EDT
DTSTART:20250309T070000
END:DAYLIGHT
BEGIN:STANDARD
TZOFFSETFROM:-0400
TZOFFSETTO:-0500
TZNAME:EST
DTSTART:20251102T060000
END:STANDARD
BEGIN:DAYLIGHT
TZOFFSETFROM:-0500
TZOFFSETTO:-0400
TZNAME:EDT
DTSTART:20260308T070000
END:DAYLIGHT
BEGIN:STANDARD
TZOFFSETFROM:-0400
TZOFFSETTO:-0500
TZNAME:EST
DTSTART:20261101T060000
END:STANDARD
END:VTIMEZONE
BEGIN:VEVENT
DTSTART;VALUE=DATE:20250520
DTEND;VALUE=DATE:20250524
DTSTAMP:20260425T063144
CREATED:20250411T181610Z
LAST-MODIFIED:20250422T153416Z
UID:10000509-1747699200-1748044799@www.nrtc.coop
SUMMARY:Georgia EMC Spring Engineering Conference\, St. Simons Island\, GA
DESCRIPTION:NRTC’s Senior Regional Business Manager\, Rodney Pugh\, will attend and exhibit – stop by and say hello! \n  \n 
URL:https://www.nrtc.coop/event/georgia-emc-spring-engineering-conference-st-simons-island-ga/
CATEGORIES:Conference
ATTACH;FMTTYPE=image/png:https://www.nrtc.coop/wp-content/uploads/2023/03/Georgia-Electric-Membership-Corp.-GEMC-Engineering-Spring-Conference-2023.png
END:VEVENT
BEGIN:VEVENT
DTSTART;VALUE=DATE:20250520
DTEND;VALUE=DATE:20250524
DTSTAMP:20260425T063144
CREATED:20250411T181610Z
LAST-MODIFIED:20250411T181610Z
UID:10000839-1747699200-1748044799@www.nrtc.coop
SUMMARY:Georgia EMC Spring Engineering Conference\, St. Simons Island\, GA
DESCRIPTION:NRTC’s Senior Regional Business Manager\, Rodney Pugh\, will attend and exhibit – stop by and say hello! \n  \n 
URL:https://www.nrtc.coop/event/georgia-emc-spring-engineering-conference-st-simons-island-ga-2/
CATEGORIES:Conference
ATTACH;FMTTYPE=image/png:https://www.nrtc.coop/wp-content/uploads/2023/03/Georgia-Electric-Membership-Corp.-GEMC-Engineering-Spring-Conference-2023.png
END:VEVENT
END:VCALENDAR