BEGIN:VCALENDAR
VERSION:2.0
PRODID:-//National Rural Telecommunications Cooperative | NRTC - ECPv6.15.20//NONSGML v1.0//EN
CALSCALE:GREGORIAN
METHOD:PUBLISH
X-ORIGINAL-URL:https://www.nrtc.coop
X-WR-CALDESC:Events for National Rural Telecommunications Cooperative | NRTC
REFRESH-INTERVAL;VALUE=DURATION:PT1H
X-Robots-Tag:noindex
X-PUBLISHED-TTL:PT1H
BEGIN:VTIMEZONE
TZID:America/New_York
BEGIN:DAYLIGHT
TZOFFSETFROM:-0500
TZOFFSETTO:-0400
TZNAME:EDT
DTSTART:20240310T070000
END:DAYLIGHT
BEGIN:STANDARD
TZOFFSETFROM:-0400
TZOFFSETTO:-0500
TZNAME:EST
DTSTART:20241103T060000
END:STANDARD
BEGIN:DAYLIGHT
TZOFFSETFROM:-0500
TZOFFSETTO:-0400
TZNAME:EDT
DTSTART:20250309T070000
END:DAYLIGHT
BEGIN:STANDARD
TZOFFSETFROM:-0400
TZOFFSETTO:-0500
TZNAME:EST
DTSTART:20251102T060000
END:STANDARD
BEGIN:DAYLIGHT
TZOFFSETFROM:-0500
TZOFFSETTO:-0400
TZNAME:EDT
DTSTART:20260308T070000
END:DAYLIGHT
BEGIN:STANDARD
TZOFFSETFROM:-0400
TZOFFSETTO:-0500
TZNAME:EST
DTSTART:20261101T060000
END:STANDARD
END:VTIMEZONE
BEGIN:VEVENT
DTSTART;TZID=America/New_York:20250713T080000
DTEND;TZID=America/New_York:20250715T170000
DTSTAMP:20260421T043515
CREATED:20250411T183504Z
LAST-MODIFIED:20250422T153033Z
UID:10000513-1752393600-1752598800@www.nrtc.coop
SUMMARY:GREMA Managers' Conference\, Hilton Head Island\, SC
DESCRIPTION:NRTC’s Senior Regional Business Manager\, Rodney Pugh\, will attend. \n  \nNRTC is an Affiliate Sponsor of this event.
URL:https://www.nrtc.coop/event/grema-managers-conference-hilton-head-island-sc/
CATEGORIES:Conference
ATTACH;FMTTYPE=image/png:https://www.nrtc.coop/wp-content/uploads/2024/04/GREMA-Conference-Hilton-Head-SC.png
END:VEVENT
END:VCALENDAR