BEGIN:VCALENDAR
VERSION:2.0
PRODID:-//National Rural Telecommunications Cooperative | NRTC - ECPv6.15.20//NONSGML v1.0//EN
CALSCALE:GREGORIAN
METHOD:PUBLISH
X-ORIGINAL-URL:https://www.nrtc.coop
X-WR-CALDESC:Events for National Rural Telecommunications Cooperative | NRTC
REFRESH-INTERVAL;VALUE=DURATION:PT1H
X-Robots-Tag:noindex
X-PUBLISHED-TTL:PT1H
BEGIN:VTIMEZONE
TZID:America/New_York
BEGIN:DAYLIGHT
TZOFFSETFROM:-0500
TZOFFSETTO:-0400
TZNAME:EDT
DTSTART:20210314T070000
END:DAYLIGHT
BEGIN:STANDARD
TZOFFSETFROM:-0400
TZOFFSETTO:-0500
TZNAME:EST
DTSTART:20211107T060000
END:STANDARD
BEGIN:DAYLIGHT
TZOFFSETFROM:-0500
TZOFFSETTO:-0400
TZNAME:EDT
DTSTART:20220313T070000
END:DAYLIGHT
BEGIN:STANDARD
TZOFFSETFROM:-0400
TZOFFSETTO:-0500
TZNAME:EST
DTSTART:20221106T060000
END:STANDARD
BEGIN:DAYLIGHT
TZOFFSETFROM:-0500
TZOFFSETTO:-0400
TZNAME:EDT
DTSTART:20230312T070000
END:DAYLIGHT
BEGIN:STANDARD
TZOFFSETFROM:-0400
TZOFFSETTO:-0500
TZNAME:EST
DTSTART:20231105T060000
END:STANDARD
BEGIN:DAYLIGHT
TZOFFSETFROM:-0500
TZOFFSETTO:-0400
TZNAME:EDT
DTSTART:20240310T070000
END:DAYLIGHT
BEGIN:STANDARD
TZOFFSETFROM:-0400
TZOFFSETTO:-0500
TZNAME:EST
DTSTART:20241103T060000
END:STANDARD
END:VTIMEZONE
BEGIN:VTIMEZONE
TZID:America/Chicago
BEGIN:DAYLIGHT
TZOFFSETFROM:-0600
TZOFFSETTO:-0500
TZNAME:CDT
DTSTART:20210314T080000
END:DAYLIGHT
BEGIN:STANDARD
TZOFFSETFROM:-0500
TZOFFSETTO:-0600
TZNAME:CST
DTSTART:20211107T070000
END:STANDARD
BEGIN:DAYLIGHT
TZOFFSETFROM:-0600
TZOFFSETTO:-0500
TZNAME:CDT
DTSTART:20220313T080000
END:DAYLIGHT
BEGIN:STANDARD
TZOFFSETFROM:-0500
TZOFFSETTO:-0600
TZNAME:CST
DTSTART:20221106T070000
END:STANDARD
BEGIN:DAYLIGHT
TZOFFSETFROM:-0600
TZOFFSETTO:-0500
TZNAME:CDT
DTSTART:20230312T080000
END:DAYLIGHT
BEGIN:STANDARD
TZOFFSETFROM:-0500
TZOFFSETTO:-0600
TZNAME:CST
DTSTART:20231105T070000
END:STANDARD
END:VTIMEZONE
BEGIN:VEVENT
DTSTART;VALUE=DATE:20221124
DTEND;VALUE=DATE:20221126
DTSTAMP:20260423T032414
CREATED:20221110T164333Z
LAST-MODIFIED:20221110T164333Z
UID:10000272-1669248000-1669420799@www.nrtc.coop
SUMMARY:Thanksgiving Holiday
DESCRIPTION:NRTC’s offices are closed on Thursday\, November 24\, and Friday\, November 25 in observance of the Thanksgiving holiday. We will resume our normal office hours on Monday\, November 28. We wish all of our members\, employees and partners a wonderful Thanksgiving.
URL:https://www.nrtc.coop/event/thanksgiving-holiday/
ATTACH;FMTTYPE=image/png:https://www.nrtc.coop/wp-content/uploads/2022/11/thanksgiving-closed.png
END:VEVENT
BEGIN:VEVENT
DTSTART;VALUE=DATE:20221124
DTEND;VALUE=DATE:20221126
DTSTAMP:20260423T032414
CREATED:20221110T164333Z
LAST-MODIFIED:20221110T164333Z
UID:10000583-1669248000-1669420799@www.nrtc.coop
SUMMARY:Thanksgiving Holiday
DESCRIPTION:NRTC’s offices are closed on Thursday\, November 24\, and Friday\, November 25 in observance of the Thanksgiving holiday. We will resume our normal office hours on Monday\, November 28. We wish all of our members\, employees and partners a wonderful Thanksgiving.
URL:https://www.nrtc.coop/event/thanksgiving-holiday-2/
ATTACH;FMTTYPE=image/png:https://www.nrtc.coop/wp-content/uploads/2022/11/thanksgiving-closed.png
END:VEVENT
BEGIN:VEVENT
DTSTART;TZID=America/New_York:20221201T080000
DTEND;TZID=America/New_York:20221202T170000
DTSTAMP:20260423T032414
CREATED:20221103T154957Z
LAST-MODIFIED:20221110T171229Z
UID:10000268-1669881600-1670000400@www.nrtc.coop
SUMMARY:Iowa Assoc. of Electric Cooperatives Annual Meeting
DESCRIPTION:NRTC is a sponsor of this event
URL:https://www.nrtc.coop/event/iowa-assoc-of-electric-cooperatives-annual-meeting/
LOCATION:Sheraton West Des Moines\, IA\, United States
CATEGORIES:Conference
ATTACH;FMTTYPE=image/png:https://www.nrtc.coop/wp-content/uploads/2022/11/iowa-winter-meeting.png
GEO:37.09024;-95.712891
END:VEVENT
BEGIN:VEVENT
DTSTART;TZID=America/New_York:20221201T080000
DTEND;TZID=America/New_York:20221202T170000
DTSTAMP:20260423T032414
CREATED:20221103T154957Z
LAST-MODIFIED:20221103T154957Z
UID:10000580-1669881600-1670000400@www.nrtc.coop
SUMMARY:Iowa Assoc. of Electric Cooperatives Annual Meeting
DESCRIPTION:NRTC is a sponsor of this event
URL:https://www.nrtc.coop/event/iowa-assoc-of-electric-cooperatives-annual-meeting-2/
LOCATION:Sheraton West Des Moines\, IA\, United States
CATEGORIES:Conference
ATTACH;FMTTYPE=image/png:https://www.nrtc.coop/wp-content/uploads/2022/11/iowa-winter-meeting.png
GEO:37.09024;-95.712891
END:VEVENT
BEGIN:VEVENT
DTSTART;TZID=America/New_York:20221201T110000
DTEND;TZID=America/New_York:20221201T113000
DTSTAMP:20260423T032414
CREATED:20221108T141213Z
LAST-MODIFIED:20221108T141213Z
UID:10000270-1669892400-1669894200@www.nrtc.coop
SUMMARY:NRTC Managed Services - Quarterly Marketing Webinar
DESCRIPTION:Are you looking for ways to sell higher speed internet packages and grow your average revenue per user? Join our webinar to see new marketing campaigns designed to help you promote NRTC Managed Services solutions like TechShield\, TechShield Professional and Tech Home. We will also talk about promotions\, and other marketing happenings at NRTC. \nWe are looking forward to seeing you there!
URL:https://www.nrtc.coop/event/nrtc-managed-services-quarterly-marketing-webinar-3/
LOCATION:Webinar\, United States
CATEGORIES:Webinar
ATTACH;FMTTYPE=image/jpeg:https://www.nrtc.coop/wp-content/uploads/2022/11/quarterlymarketingwebinar-webpageimg.jpg
GEO:37.09024;-95.712891
END:VEVENT
BEGIN:VEVENT
DTSTART;TZID=America/New_York:20221201T110000
DTEND;TZID=America/New_York:20221201T113000
DTSTAMP:20260423T032414
CREATED:20221108T141213Z
LAST-MODIFIED:20221108T141213Z
UID:10000582-1669892400-1669894200@www.nrtc.coop
SUMMARY:NRTC Managed Services - Quarterly Marketing Webinar
DESCRIPTION:Are you looking for ways to sell higher speed internet packages and grow your average revenue per user? Join our webinar to see new marketing campaigns designed to help you promote NRTC Managed Services solutions like TechShield\, TechShield Professional and Tech Home. We will also talk about promotions\, and other marketing happenings at NRTC. \nWe are looking forward to seeing you there!
URL:https://www.nrtc.coop/event/nrtc-managed-services-quarterly-marketing-webinar-3-2/
LOCATION:Webinar\, United States
CATEGORIES:Webinar
ATTACH;FMTTYPE=image/jpeg:https://www.nrtc.coop/wp-content/uploads/2022/11/quarterlymarketingwebinar-webpageimg.jpg
GEO:37.09024;-95.712891
END:VEVENT
BEGIN:VEVENT
DTSTART;TZID=America/New_York:20221204T080000
DTEND;TZID=America/New_York:20221206T170000
DTSTAMP:20260423T032414
CREATED:20221103T150923Z
LAST-MODIFIED:20221110T171921Z
UID:10000267-1670140800-1670346000@www.nrtc.coop
SUMMARY:Arkansas Electric Cooperatives Directors Winter Conference
DESCRIPTION:NRTC is a sponsor of this event
URL:https://www.nrtc.coop/event/arkansas-electric-cooperative-directors-winter-conferece/
LOCATION:Little Rock\, AR\, United States
CATEGORIES:Conference
ATTACH;FMTTYPE=image/png:https://www.nrtc.coop/wp-content/uploads/2022/11/arkansas-winter-directors-meeting.png
GEO:37.09024;-95.712891
END:VEVENT
BEGIN:VEVENT
DTSTART;TZID=America/New_York:20221204T080000
DTEND;TZID=America/New_York:20221206T170000
DTSTAMP:20260423T032414
CREATED:20221103T150923Z
LAST-MODIFIED:20221103T150923Z
UID:10000579-1670140800-1670346000@www.nrtc.coop
SUMMARY:Arkansas Electric Cooperatives Directors Winter Conference
DESCRIPTION:NRTC is a sponsor of this event
URL:https://www.nrtc.coop/event/arkansas-electric-cooperative-directors-winter-conferece-2/
LOCATION:Little Rock\, AR\, United States
CATEGORIES:Conference
ATTACH;FMTTYPE=image/png:https://www.nrtc.coop/wp-content/uploads/2022/11/arkansas-winter-directors-meeting.png
GEO:37.09024;-95.712891
END:VEVENT
BEGIN:VEVENT
DTSTART;VALUE=DATE:20221205
DTEND;VALUE=DATE:20221207
DTSTAMP:20260423T032414
CREATED:20220906T155103Z
LAST-MODIFIED:20220906T155836Z
UID:10000203-1670198400-1670371199@www.nrtc.coop
SUMMARY:Indiana Electric Cooperatives Annual Meeting
DESCRIPTION:
URL:https://www.nrtc.coop/event/indiana-electric-cooperatives-annual-meeting/
LOCATION:Indianapolis Marriot Downtown\, 305 W Maryland St\, Indianapolis\, IN\, 46225\, United States
CATEGORIES:Conference
ATTACH;FMTTYPE=image/png:https://www.nrtc.coop/wp-content/uploads/2022/09/20221215_iec.png
GEO:39.7656056;-86.1637743
X-APPLE-STRUCTURED-LOCATION;VALUE=URI;X-ADDRESS=Indianapolis Marriot Downtown 305 W Maryland St Indianapolis IN 46225 United States;X-APPLE-RADIUS=500;X-TITLE=305 W Maryland St:geo:-86.1637743,39.7656056
END:VEVENT
BEGIN:VEVENT
DTSTART;VALUE=DATE:20221205
DTEND;VALUE=DATE:20221207
DTSTAMP:20260423T032414
CREATED:20220906T155103Z
LAST-MODIFIED:20220906T155103Z
UID:10000535-1670198400-1670371199@www.nrtc.coop
SUMMARY:Indiana Electric Cooperatives Annual Meeting
DESCRIPTION:
URL:https://www.nrtc.coop/event/indiana-electric-cooperatives-annual-meeting-2/
LOCATION:Indianapolis Marriot Downtown\, 305 W Maryland St\, Indianapolis\, IN\, 46225\, United States
CATEGORIES:Conference
ATTACH;FMTTYPE=image/png:https://www.nrtc.coop/wp-content/uploads/2022/09/20221215_iec.png
GEO:39.7656056;-86.1637743
X-APPLE-STRUCTURED-LOCATION;VALUE=URI;X-ADDRESS=Indianapolis Marriot Downtown 305 W Maryland St Indianapolis IN 46225 United States;X-APPLE-RADIUS=500;X-TITLE=305 W Maryland St:geo:-86.1637743,39.7656056
END:VEVENT
BEGIN:VEVENT
DTSTART;TZID=America/New_York:20221208T150000
DTEND;TZID=America/New_York:20221208T170000
DTSTAMP:20260423T032414
CREATED:20221207T223621Z
LAST-MODIFIED:20221208T191458Z
UID:10000274-1670511600-1670518800@www.nrtc.coop
SUMMARY:NRECA/NRTC Broadband Map Availability Challenge Project
DESCRIPTION:The first draft of the FCC’s Broadband Map is out. The next version will serve as the basis for allocating $42.5 billion of Broadband Access\, Equity\, and Deployment (BEAD) funding from the National Telecommunications and Information Administration (NTIA) to states for their broadband programs.
URL:https://www.nrtc.coop/event/webinar-nreca-nrtc-broadband-map-availability-challenge-project/
CATEGORIES:Webinar
ATTACH;FMTTYPE=image/jpeg:https://www.nrtc.coop/wp-content/uploads/2022/11/Broadband-map.jpg
END:VEVENT
BEGIN:VEVENT
DTSTART;TZID=America/New_York:20221208T150000
DTEND;TZID=America/New_York:20221208T170000
DTSTAMP:20260423T032414
CREATED:20221207T223621Z
LAST-MODIFIED:20221207T223621Z
UID:10000585-1670511600-1670518800@www.nrtc.coop
SUMMARY:NRECA/NRTC Broadband Map Availability Challenge Project
DESCRIPTION:The first draft of the FCC’s Broadband Map is out. The next version will serve as the basis for allocating $42.5 billion of Broadband Access\, Equity\, and Deployment (BEAD) funding from the National Telecommunications and Information Administration (NTIA) to states for their broadband programs.
URL:https://www.nrtc.coop/event/webinar-nreca-nrtc-broadband-map-availability-challenge-project-2/
CATEGORIES:Webinar
ATTACH;FMTTYPE=image/jpeg:https://www.nrtc.coop/wp-content/uploads/2022/11/Broadband-map.jpg
END:VEVENT
BEGIN:VEVENT
DTSTART;TZID=America/New_York:20221214T130000
DTEND;TZID=America/New_York:20221214T133000
DTSTAMP:20260423T032414
CREATED:20221207T222336Z
LAST-MODIFIED:20221208T211823Z
UID:10000273-1671022800-1671024600@www.nrtc.coop
SUMMARY:How Can Permitting & ROW Affect Broadband Deployment
DESCRIPTION:Please join us for our fourth installment\, How Can Permitting & ROW Affect Broadband Deployment\, on December 14 at 1PM ET\, delivered by Competitive Carriers Association (CCA)\, Telecom & Broadband\, National Rural Electric Cooperative Association (NRECA)\, and National Rural Telecommunications Cooperative (NRTC).
URL:https://www.nrtc.coop/event/webinar-how-can-permitting-row-affect-broadband-deployment/
CATEGORIES:Webinar
ATTACH;FMTTYPE=image/png:https://www.nrtc.coop/wp-content/uploads/2022/12/internet-for-all-webcast-graphic.png
END:VEVENT
BEGIN:VEVENT
DTSTART;TZID=America/New_York:20221214T130000
DTEND;TZID=America/New_York:20221214T133000
DTSTAMP:20260423T032414
CREATED:20221207T222336Z
LAST-MODIFIED:20221207T222336Z
UID:10000584-1671022800-1671024600@www.nrtc.coop
SUMMARY:How Can Permitting & ROW Affect Broadband Deployment
DESCRIPTION:Please join us for our fourth installment\, How Can Permitting & ROW Affect Broadband Deployment\, on December 14 at 1PM ET\, delivered by Competitive Carriers Association (CCA)\, Telecom & Broadband\, National Rural Electric Cooperative Association (NRECA)\, and National Rural Telecommunications Cooperative (NRTC).
URL:https://www.nrtc.coop/event/webinar-how-can-permitting-row-affect-broadband-deployment-2/
CATEGORIES:Webinar
ATTACH;FMTTYPE=image/png:https://www.nrtc.coop/wp-content/uploads/2022/12/internet-for-all-webcast-graphic.png
END:VEVENT
BEGIN:VEVENT
DTSTART;VALUE=DATE:20230108
DTEND;VALUE=DATE:20230111
DTSTAMP:20260423T032414
CREATED:20221207T224154Z
LAST-MODIFIED:20230106T135510Z
UID:10000206-1673136000-1673395199@www.nrtc.coop
SUMMARY:NRECA CEO Close-up
DESCRIPTION:An exclusive\, annual event that delivers unparalleled opportunities for electric cooperative CEOs and general managers to learn new strategies to improve their leadership skills and gain insights into industry challenges. \nNRTC CEO Tim Bryan will be presenting. \nNRTC is a sponsor of this event. \n  \n 
URL:https://www.nrtc.coop/event/nreca-ceo-close-up/
LOCATION:JW Marriott Marco Island Beach Resort\, 400 S Collier Blvd\, Marco Island\, FL\, United States
CATEGORIES:Conference
ATTACH;FMTTYPE=image/png:https://www.nrtc.coop/wp-content/uploads/2022/12/2022-CEO-Close-Up-Hero-Image-Marco-Island.png
GEO:25.9295962;-81.7289676
X-APPLE-STRUCTURED-LOCATION;VALUE=URI;X-ADDRESS=JW Marriott Marco Island Beach Resort 400 S Collier Blvd Marco Island FL United States;X-APPLE-RADIUS=500;X-TITLE=400 S Collier Blvd:geo:-81.7289676,25.9295962
END:VEVENT
BEGIN:VEVENT
DTSTART;VALUE=DATE:20230108
DTEND;VALUE=DATE:20230111
DTSTAMP:20260423T032414
CREATED:20221207T224154Z
LAST-MODIFIED:20221207T224154Z
UID:10000586-1673136000-1673395199@www.nrtc.coop
SUMMARY:NRECA CEO Close-up
DESCRIPTION:An exclusive\, annual event that delivers unparalleled opportunities for electric cooperative CEOs and general managers to learn new strategies to improve their leadership skills and gain insights into industry challenges. \nNRTC CEO Tim Bryan will be presenting. \nNRTC is a sponsor of this event. \n  \n 
URL:https://www.nrtc.coop/event/nreca-ceo-close-up-2/
LOCATION:JW Marriott Marco Island Beach Resort\, 400 S Collier Blvd\, Marco Island\, FL\, United States
CATEGORIES:Conference
ATTACH;FMTTYPE=image/png:https://www.nrtc.coop/wp-content/uploads/2022/12/2022-CEO-Close-Up-Hero-Image-Marco-Island.png
GEO:25.9295962;-81.7289676
X-APPLE-STRUCTURED-LOCATION;VALUE=URI;X-ADDRESS=JW Marriott Marco Island Beach Resort 400 S Collier Blvd Marco Island FL United States;X-APPLE-RADIUS=500;X-TITLE=400 S Collier Blvd:geo:-81.7289676,25.9295962
END:VEVENT
BEGIN:VEVENT
DTSTART;VALUE=DATE:20230121
DTEND;VALUE=DATE:20230124
DTSTAMP:20260423T032414
CREATED:20221208T135011Z
LAST-MODIFIED:20230117T202207Z
UID:10000214-1674259200-1674518399@www.nrtc.coop
SUMMARY:Kansas Electric Cooperative Annual Meeting\, Topeka\, KS
DESCRIPTION:NRTC is a sponsor of this meeting.
URL:https://www.nrtc.coop/event/kansas-electric-cooperative-annual-meeting-topeka-ks/
LOCATION:Maner Conference Centre\, 1717 SW Topeka Blvd\, Topeka\, KS\, 66612\, United States
CATEGORIES:Conference
ATTACH;FMTTYPE=image/png:https://www.nrtc.coop/wp-content/uploads/2022/12/KEC-Annual-Meeting.png
GEO:39.0355217;-95.6849962
X-APPLE-STRUCTURED-LOCATION;VALUE=URI;X-ADDRESS=Maner Conference Centre 1717 SW Topeka Blvd Topeka KS 66612 United States;X-APPLE-RADIUS=500;X-TITLE=1717 SW Topeka Blvd:geo:-95.6849962,39.0355217
END:VEVENT
BEGIN:VEVENT
DTSTART;VALUE=DATE:20230121
DTEND;VALUE=DATE:20230124
DTSTAMP:20260423T032414
CREATED:20221208T135011Z
LAST-MODIFIED:20221208T135011Z
UID:10000590-1674259200-1674518399@www.nrtc.coop
SUMMARY:Kansas Electric Cooperative Annual Meeting\, Topeka\, KS
DESCRIPTION:NRTC is a sponsor of this meeting.
URL:https://www.nrtc.coop/event/kansas-electric-cooperative-annual-meeting-topeka-ks-2/
LOCATION:Maner Conference Centre\, 1717 SW Topeka Blvd\, Topeka\, KS\, 66612\, United States
CATEGORIES:Conference
ATTACH;FMTTYPE=image/png:https://www.nrtc.coop/wp-content/uploads/2022/12/KEC-Annual-Meeting.png
GEO:39.0355217;-95.6849962
X-APPLE-STRUCTURED-LOCATION;VALUE=URI;X-ADDRESS=Maner Conference Centre 1717 SW Topeka Blvd Topeka KS 66612 United States;X-APPLE-RADIUS=500;X-TITLE=1717 SW Topeka Blvd:geo:-95.6849962,39.0355217
END:VEVENT
BEGIN:VEVENT
DTSTART;VALUE=DATE:20230123
DTEND;VALUE=DATE:20230126
DTSTAMP:20260423T032414
CREATED:20221213T213309Z
LAST-MODIFIED:20230111T135719Z
UID:10000216-1674432000-1674691199@www.nrtc.coop
SUMMARY:Grand Canyon State Electric Cooperative Assoc. Winter meeting\, Phoenix\, AZ
DESCRIPTION:NRTC is a meeting sponsor
URL:https://www.nrtc.coop/event/grand-canyon-state-electric-cooperative-assoc-winter-meeting-phoenix-az/
CATEGORIES:Conference
ATTACH;FMTTYPE=image/png:https://www.nrtc.coop/wp-content/uploads/2022/12/grand-canyon-state-electric-cooperative-association.png
END:VEVENT
BEGIN:VEVENT
DTSTART;VALUE=DATE:20230123
DTEND;VALUE=DATE:20230126
DTSTAMP:20260423T032414
CREATED:20221213T213309Z
LAST-MODIFIED:20221213T213309Z
UID:10000592-1674432000-1674691199@www.nrtc.coop
SUMMARY:Grand Canyon State Electric Cooperative Assoc. Winter meeting\, Phoenix\, AZ
DESCRIPTION:NRTC is a meeting sponsor
URL:https://www.nrtc.coop/event/grand-canyon-state-electric-cooperative-assoc-winter-meeting-phoenix-az-2/
CATEGORIES:Conference
ATTACH;FMTTYPE=image/png:https://www.nrtc.coop/wp-content/uploads/2022/12/grand-canyon-state-electric-cooperative-association.png
END:VEVENT
BEGIN:VEVENT
DTSTART;VALUE=DATE:20230126
DTEND;VALUE=DATE:20230128
DTSTAMP:20260423T032414
CREATED:20230111T141524Z
LAST-MODIFIED:20230117T203137Z
UID:10000221-1674691200-1674863999@www.nrtc.coop
SUMMARY:Wyoming Telecommunications Assoc. Winter Meeting\, Cheyenne\, WY
DESCRIPTION:NRTC’s Teresa Ferguson will be presenting on Federal Funding\, January 26
URL:https://www.nrtc.coop/event/wyoming-telecommunications-assoc-winter-meeting/
LOCATION:Fairfield Inn & Suites 1820 West Lincolnway\, Cheyenne\, WY\, United States
CATEGORIES:Conference
ATTACH;FMTTYPE=image/png:https://www.nrtc.coop/wp-content/uploads/2023/01/wyoming.png
GEO:37.09024;-95.712891
END:VEVENT
BEGIN:VEVENT
DTSTART;VALUE=DATE:20230126
DTEND;VALUE=DATE:20230128
DTSTAMP:20260423T032414
CREATED:20230111T141524Z
LAST-MODIFIED:20230111T141524Z
UID:10000595-1674691200-1674863999@www.nrtc.coop
SUMMARY:Wyoming Telecommunications Assoc. Winter Meeting\, Cheyenne\, WY
DESCRIPTION:NRTC’s Teresa Ferguson will be presenting on Federal Funding\, January 26
URL:https://www.nrtc.coop/event/wyoming-telecommunications-assoc-winter-meeting-2/
LOCATION:Fairfield Inn & Suites 1820 West Lincolnway\, Cheyenne\, WY\, United States
CATEGORIES:Conference
ATTACH;FMTTYPE=image/png:https://www.nrtc.coop/wp-content/uploads/2023/01/wyoming.png
GEO:37.09024;-95.712891
END:VEVENT
BEGIN:VEVENT
DTSTART;VALUE=DATE:20230201
DTEND;VALUE=DATE:20230204
DTSTAMP:20260423T032414
CREATED:20230123T185756Z
LAST-MODIFIED:20230124T134722Z
UID:10000278-1675209600-1675468799@www.nrtc.coop
SUMMARY:NYSTA / TANE Issues Conference\, Saratoga Springs\, NY
DESCRIPTION:NRTC is a sponsor of this conference. \nNRTC representatives Curtis Strole and Cynthia Griffith will attend.
URL:https://www.nrtc.coop/event/nysta-tane-issues-conference-saratoga-springs-ny/
CATEGORIES:Conference
ATTACH;FMTTYPE=image/png:https://www.nrtc.coop/wp-content/uploads/2023/01/tane.png
END:VEVENT
BEGIN:VEVENT
DTSTART;VALUE=DATE:20230201
DTEND;VALUE=DATE:20230204
DTSTAMP:20260423T032414
CREATED:20230123T185756Z
LAST-MODIFIED:20230123T185756Z
UID:10000600-1675209600-1675468799@www.nrtc.coop
SUMMARY:NYSTA / TANE Issues Conference\, Saratoga Springs\, NY
DESCRIPTION:NRTC is a sponsor of this conference. \nNRTC representatives Curtis Strole and Cynthia Griffith will attend.
URL:https://www.nrtc.coop/event/nysta-tane-issues-conference-saratoga-springs-ny-2/
CATEGORIES:Conference
ATTACH;FMTTYPE=image/png:https://www.nrtc.coop/wp-content/uploads/2023/01/tane.png
END:VEVENT
BEGIN:VEVENT
DTSTART;TZID=America/New_York:20230204T070000
DTEND;TZID=America/New_York:20230207T153000
DTSTAMP:20260423T032414
CREATED:20230126T165035Z
LAST-MODIFIED:20230126T165035Z
UID:10000292-1675494000-1675783800@www.nrtc.coop
SUMMARY:NRECA Directors Conference\, Kansas City\, MO
DESCRIPTION:NRTC is the morning break sponsor
URL:https://www.nrtc.coop/event/nreca-directors-conference-kansas-city-mo/
ATTACH;FMTTYPE=image/jpeg:https://www.nrtc.coop/wp-content/uploads/2022/08/nrtc-default.jpeg
END:VEVENT
BEGIN:VEVENT
DTSTART;TZID=America/New_York:20230204T070000
DTEND;TZID=America/New_York:20230207T153000
DTSTAMP:20260423T032414
CREATED:20230126T165035Z
LAST-MODIFIED:20230126T165035Z
UID:10000604-1675494000-1675783800@www.nrtc.coop
SUMMARY:NRECA Directors Conference\, Kansas City\, MO
DESCRIPTION:NRTC is the morning break sponsor
URL:https://www.nrtc.coop/event/nreca-directors-conference-kansas-city-mo-2/
ATTACH;FMTTYPE=image/jpeg:https://www.nrtc.coop/wp-content/uploads/2022/08/nrtc-default.jpeg
END:VEVENT
BEGIN:VEVENT
DTSTART;VALUE=DATE:20230206
DTEND;VALUE=DATE:20230209
DTSTAMP:20260423T032414
CREATED:20221025T212818Z
LAST-MODIFIED:20230117T202044Z
UID:10000266-1675641600-1675900799@www.nrtc.coop
SUMMARY:NRECA NEXT Conference\, Bonita Springs\, FL
DESCRIPTION:The NEXT Conference is a signature business-to-business conference that brings together national and regional energy managers with co-op employees\, including key account and energy services professionals from around the country.
URL:https://www.nrtc.coop/event/nreca-next-conference/
LOCATION:Hyatt Regency Coconut Point Resort and Spa\, 5001 Coconut Road\, Bonita Springs\, FL\, 34134\, United States
CATEGORIES:Conference
ATTACH;FMTTYPE=image/png:https://www.nrtc.coop/wp-content/uploads/2022/10/NEXT-conference-hero.png
GEO:26.3975131;-81.8380813
X-APPLE-STRUCTURED-LOCATION;VALUE=URI;X-ADDRESS=Hyatt Regency Coconut Point Resort and Spa 5001 Coconut Road Bonita Springs FL 34134 United States;X-APPLE-RADIUS=500;X-TITLE=5001 Coconut Road:geo:-81.8380813,26.3975131
END:VEVENT
BEGIN:VEVENT
DTSTART;VALUE=DATE:20230206
DTEND;VALUE=DATE:20230209
DTSTAMP:20260423T032414
CREATED:20221025T212818Z
LAST-MODIFIED:20221025T212818Z
UID:10000578-1675641600-1675900799@www.nrtc.coop
SUMMARY:NRECA NEXT Conference\, Bonita Springs\, FL
DESCRIPTION:The NEXT Conference is a signature business-to-business conference that brings together national and regional energy managers with co-op employees\, including key account and energy services professionals from around the country.
URL:https://www.nrtc.coop/event/nreca-next-conference-2/
LOCATION:Hyatt Regency Coconut Point Resort and Spa\, 5001 Coconut Road\, Bonita Springs\, FL\, 34134\, United States
CATEGORIES:Conference
ATTACH;FMTTYPE=image/png:https://www.nrtc.coop/wp-content/uploads/2022/10/NEXT-conference-hero.png
GEO:26.3975131;-81.8380813
X-APPLE-STRUCTURED-LOCATION;VALUE=URI;X-ADDRESS=Hyatt Regency Coconut Point Resort and Spa 5001 Coconut Road Bonita Springs FL 34134 United States;X-APPLE-RADIUS=500;X-TITLE=5001 Coconut Road:geo:-81.8380813,26.3975131
END:VEVENT
BEGIN:VEVENT
DTSTART;TZID=America/New_York:20230207T140000
DTEND;TZID=America/New_York:20230207T150000
DTSTAMP:20260423T032414
CREATED:20230124T150548Z
LAST-MODIFIED:20230124T154311Z
UID:10000283-1675778400-1675782000@www.nrtc.coop
SUMMARY:Protect Your Turf! Learn How to Arm Yourself with Mobile Bundles
DESCRIPTION:(February 7th\, 2023 – 2:00 PM ET) Did you know that bundling low-cost mobile service with broadband is one of the most common and successful attack strategies used by major broadband providers today? As these providers expand their footprint into the markets of smaller incumbents like yourself\, they are using these bundles to lure your subscribers away and keep them for the long term. \nJoin mobile expert Zach Nichols as he discusses NRTC’s mobile bundling solution\, designed to help you fend off these attacks on your subscriber base. Learn how other rural broadband providers have easily implemented mobile bundles to increase competitiveness\, grow revenue and improve retention. You will hear how easy and inexpensive it is to add mobile service to round out your product offering. \nRegister
URL:https://www.nrtc.coop/event/protect-your-turf-learn-how-to-arm-yourself-with-mobile-bundles/
LOCATION:Webinar\, United States
CATEGORIES:Webinar
ATTACH;FMTTYPE=image/png:https://www.nrtc.coop/wp-content/uploads/2023/01/webinar-mobile-february2023.png
GEO:37.09024;-95.712891
END:VEVENT
BEGIN:VEVENT
DTSTART;TZID=America/New_York:20230207T140000
DTEND;TZID=America/New_York:20230207T150000
DTSTAMP:20260423T032414
CREATED:20230124T150548Z
LAST-MODIFIED:20230124T150548Z
UID:10000603-1675778400-1675782000@www.nrtc.coop
SUMMARY:Protect Your Turf! Learn How to Arm Yourself with Mobile Bundles
DESCRIPTION:(February 7th\, 2023 – 2:00 PM ET) Did you know that bundling low-cost mobile service with broadband is one of the most common and successful attack strategies used by major broadband providers today? As these providers expand their footprint into the markets of smaller incumbents like yourself\, they are using these bundles to lure your subscribers away and keep them for the long term. \nJoin mobile expert Zach Nichols as he discusses NRTC’s mobile bundling solution\, designed to help you fend off these attacks on your subscriber base. Learn how other rural broadband providers have easily implemented mobile bundles to increase competitiveness\, grow revenue and improve retention. You will hear how easy and inexpensive it is to add mobile service to round out your product offering. \nRegister
URL:https://www.nrtc.coop/event/protect-your-turf-learn-how-to-arm-yourself-with-mobile-bundles-2/
LOCATION:Webinar\, United States
CATEGORIES:Webinar
ATTACH;FMTTYPE=image/png:https://www.nrtc.coop/wp-content/uploads/2023/01/webinar-mobile-february2023.png
GEO:37.09024;-95.712891
END:VEVENT
END:VCALENDAR